{"text_format":"3","workbook":"xlsx","n_sheets":1,"sheets":["1"],"not_rendered":{"external_links":1,"defined_names":1},"read":"whole","date_system":"1900"}

{"sheet":"1","index":0,"n_rows":290,"n_cols":4,"rows_kept":290,"merged":[[0,0,0,3],[2,3,6,3],[7,3,11,3],[12,3,16,3],[17,3,21,3],[22,3,26,3],[27,3,31,3],[32,3,36,3],[37,3,41,3],[42,3,46,3],[47,3,49,3],[50,0,50,3],[52,3,56,3],[57,3,61,3],[62,3,66,3],[67,3,71,3],[72,3,76,3],[77,3,81,3],[82,3,86,3],[87,3,91,3],[92,3,97,3],[98,0,98,3],[100,3,104,3],[105,3,109,3],[110,3,114,3],[115,3,119,3],[120,3,124,3],[125,3,129,3],[130,3,134,3],[135,3,139,3],[140,3,145,3],[146,0,146,3],[148,3,152,3],[153,3,157,3],[158,3,162,3],[163,3,167,3],[168,3,172,3],[173,3,177,3],[178,3,182,3],[183,3,187,3],[188,3,192,3],[193,3,198,3],[199,0,199,3],[201,3,205,3],[206,3,210,3],[211,3,215,3],[216,3,220,3],[221,3,225,3],[226,3,230,3],[231,3,235,3],[236,3,240,3],[241,3,244,3],[245,0,245,3],[247,3,251,3],[252,3,256,3],[257,3,261,3],[262,3,266,3],[267,3,271,3],[272,3,276,3],[277,3,281,3],[282,3,286,3],[287,3,289,3]]}
["上饶银行2021校园招聘面试第一组 2020年11月19日（周四）"]
["序号","姓名","毕业学校","预计面试时间段"]
["1","杨凤波","国防科技大学","9：00-9：30"]
["2","郑钦文","中央财经大学"]
["3","颜志良","太原理工大学"]
["4","潘恒锋","南昌大学"]
["5","汪博","西南大学"]
["6","汪志刚","南昌大学","9：30-10：00"]
["7","刘苏玮","北京理工大学"]
["8","陈丹","中南大学"]
["9","潘晓安","华东交通大学"]
["10","胡晓吉","南昌大学"]
["11","吴其远","上海交通大学","10：00-10：30"]
["12","邱里木","东北大学（美国）"]
["13","彭天扬","湖南师范大学"]
["14","鲁启洋","华南理工大学"]
["15","胡振宇","江西财经大学"]
["16","吴峥","江西财经大学","10：30-11：00"]
["17","陈倩","江西财经大学"]
["18","王志敏","东华大学"]
["19","邓升平","江西师范大学"]
["20","江飞翔","南昌大学"]
["21","余小翠","北京师范大学","11：00-11：30"]
["22","杨志诚","英国埃塞克斯大学"]
["23","余小军","江西师范大学"]
["24","夏安迪","吉林大学"]
["25","徐鹏","江西财经大学"]
["26","李浩","南昌大学","11：30-12：00"]
["27","晏江群","首都师范大学"]
["28","徐丹丹","西南财经大学"]
["29","邹松松","重庆大学"]
["30","陈炳舟","贵州大学"]
["31","刘杰","南昌大学","13：00-13：30"]
["32","高灵芝","上海大学"]
["33","钟沁文","华东政法大学"]
["34","肖丽娜","南昌大学"]
["35","曹依","华东政法大学"]
["36","王智钰","湖南师范大学","13：30-14：00"]
["37","何田田","南昌大学"]
["38","洪晓雪","赣南师范大学"]
["39","黄晶","南华大学"]
["40","左譞","江西财经大学"]
["41","刘林","江西财经大学","14：00-14：30"]
["42","闵泽鹏","江西财经大学"]
["43","阳英浩","江西财经大学统计学院"]
["44","张帅英","江西财经大学"]
["45","李佳琴","中华女子学院"]
["46","刘超","新余学院","14：:30-15:00"]
["47","江贵金","江西财经大学"]
["48","张艳","江西财经大学"]
["上饶银行2021校园招聘面试第二组 2020年11月19日（周四）"]
["序号","姓名","毕业学校","预计面试时间段"]
["1","邹黄龙",{"$f":"VLOOKUP(B53,[1]!$B$1:$L$279,11,FALSE)","v":"江西农业大学南昌商学院"},"9：00-9：30"]
["2","王诺",{"$f":"VLOOKUP(B54,[1]!$B$1:$L$279,11,FALSE)","v":"江西财经大学"}]
["3","李俊",{"$f":"VLOOKUP(B55,[1]!$B$1:$L$279,11,FALSE)","v":"江西中医药大学"}]
["4","胡义",{"$f":"VLOOKUP(B56,[1]!$B$1:$L$279,11,FALSE)","v":"海南大学"}]
["5","罗斌",{"$f":"VLOOKUP(B57,[1]!$B$1:$L$279,11,FALSE)","v":"江西理工大学"}]
["6","舒彤",{"$f":"VLOOKUP(B58,[1]!$B$1:$L$279,11,FALSE)","v":"江西师范大学"},"9：30-10：00"]
["7","刘志敏",{"$f":"VLOOKUP(B59,[1]!$B$1:$L$279,11,FALSE)","v":"上饶师范学院"}]
["8","方鸿刚",{"$f":"VLOOKUP(B60,[1]!$B$1:$L$279,11,FALSE)","v":"江西财经大学"}]
["9","涂诗",{"$f":"VLOOKUP(B61,[1]!$B$1:$L$279,11,FALSE)","v":"伯明翰大学"}]
["10","黄昕羽",{"$f":"VLOOKUP(B62,[1]!$B$1:$L$279,11,FALSE)","v":"南昌航空大学"}]
["11","黄勇",{"$f":"VLOOKUP(B63,[1]!$B$1:$L$279,11,FALSE)","v":"江西财经大学"},"10：00-10：30"]
["12","黄波",{"$f":"VLOOKUP(B64,[1]!$B$1:$L$279,11,FALSE)","v":"江西财经大学"}]
["13","万子勋",{"$f":"VLOOKUP(B65,[1]!$B$1:$L$279,11,FALSE)","v":"江西财经大学"}]
["14","万勇俊",{"$f":"VLOOKUP(B66,[1]!$B$1:$L$279,11,FALSE)","v":"江西师范大学"}]
["15","徐可心",{"$f":"VLOOKUP(B67,[1]!$B$1:$L$279,11,FALSE)","v":"伦敦政治经济学院"}]
["16","杨科",{"$f":"VLOOKUP(B68,[1]!$B$1:$L$279,11,FALSE)","v":"华中科技大学"},"10：30-11：00"]
["17","刘君玮",{"$f":"VLOOKUP(B69,[1]!$B$1:$L$279,11,FALSE)","v":"九江学院"}]
["18","龚奕",{"$f":"VLOOKUP(B70,[1]!$B$1:$L$279,11,FALSE)","v":"南昌工学院"}]
["19","陶思成",{"$f":"VLOOKUP(B71,[1]!$B$1:$L$279,11,FALSE)","v":"山东大学"}]
["20","陈柯莉",{"$f":"VLOOKUP(B72,[1]!$B$1:$L$279,11,FALSE)","v":"东华理工大学"}]
["21","张恩海",{"$f":"VLOOKUP(B73,[1]!$B$1:$L$279,11,FALSE)","v":"江西农业大学南昌商学院"},"11：00-11：30"]
["22","丁极斌",{"$f":"VLOOKUP(B74,[1]!$B$1:$L$279,11,FALSE)","v":"江西科技师范大学"}]
["23","谌伟",{"$f":"VLOOKUP(B75,[1]!$B$1:$L$279,11,FALSE)","v":"四川大学"}]
["24","罗晶晶",{"$f":"VLOOKUP(B76,[1]!$B$1:$L$279,11,FALSE)","v":"江西财经大学"}]
["25","黄竞",{"$f":"VLOOKUP(B77,[1]!$B$1:$L$279,11,FALSE)","v":"上海工程技术大学"}]
["26","黄薪宇",{"$f":"VLOOKUP(B78,[1]!$B$1:$L$279,11,FALSE)","v":"东南大学"},"11：30-12：00"]
["27","许佳美",{"$f":"VLOOKUP(B79,[1]!$B$1:$L$279,11,FALSE)","v":"南昌航空大学"}]
["28","乐菡",{"$f":"VLOOKUP(B80,[1]!$B$1:$L$279,11,FALSE)","v":"南昌大学"}]
["29","万承美",{"$f":"VLOOKUP(B81,[1]!$B$1:$L$279,11,FALSE)","v":"南昌航空大学科技学院"}]
["30","胡晶晶",{"$f":"VLOOKUP(B82,[1]!$B$1:$L$279,11,FALSE)","v":"江西理工大学应用科学学院"}]
["31","龚竹伟",{"$f":"VLOOKUP(B83,[1]!$B$1:$L$279,11,FALSE)","v":"江西电力职业技术学院"},"13：00-13：30"]
["32","王薇",{"$f":"VLOOKUP(B84,[1]!$B$1:$L$279,11,FALSE)","v":"九江学院"}]
["33","马行昊",{"$f":"VLOOKUP(B85,[1]!$B$1:$L$279,11,FALSE)","v":"无锡太湖学院"}]
["34","梁如意",{"$f":"VLOOKUP(B86,[1]!$B$1:$L$279,11,FALSE)","v":"华东交通大学理工学院"}]
["35","邓云琴",{"$f":"VLOOKUP(B87,[1]!$B$1:$L$279,11,FALSE)","v":"江西农业大学南昌商学院"}]
["36","张李萱",{"$f":"VLOOKUP(B88,[1]!$B$1:$L$279,11,FALSE)","v":"江西农业大学"},"13：30-14：00"]
["37","吴惠玄",{"$f":"VLOOKUP(B89,[1]!$B$1:$L$279,11,FALSE)","v":"四川师范大学成都学院"}]
["38","夏江流云",{"$f":"VLOOKUP(B90,[1]!$B$1:$L$279,11,FALSE)","v":"江西财经大学"}]
["39","徐芷溪",{"$f":"VLOOKUP(B91,[1]!$B$1:$L$279,11,FALSE)","v":"四川外国语大学重庆南方翻译学院"}]
["40","叶夏",{"$f":"VLOOKUP(B92,[1]!$B$1:$L$279,11,FALSE)","v":"大连艺术学院"}]
["41","陈婧",{"$f":"VLOOKUP(B93,[1]!$B$1:$L$279,11,FALSE)","v":"四川传媒学院"},"14：00-14：30"]
["42","徐乾",{"$f":"VLOOKUP(B94,[1]!$B$1:$L$279,11,FALSE)","v":"江西财经大学"}]
["43","杨慧中",{"$f":"VLOOKUP(B95,[1]!$B$1:$L$279,11,FALSE)","v":"三峡大学"}]
["44","江婷",{"$f":"VLOOKUP(B96,[1]!$B$1:$L$279,11,FALSE)","v":"江西师范大学"}]
["45","邱云祥",{"$f":"VLOOKUP(B97,[1]!$B$1:$L$279,11,FALSE)","v":"中南财经政法大学"}]
["46","熊小春",{"$f":"VLOOKUP(B98,[1]!$B$1:$L$279,11,FALSE)","v":"南京审计大学金审学院"}]
["上饶银行2021校园招聘面试第三组 2020年11月19日（周四）"]
["序号","姓名","毕业学校","预计面试时间段"]
["1","胡声勇",{"$f":"VLOOKUP(B101,[1]!$B$1:$L$279,11,FALSE)","v":"江西财经大学"},"9：00-9：30"]
["2","刘温舒",{"$f":"VLOOKUP(B102,[1]!$B$1:$L$279,11,FALSE)","v":"江西财经大学"}]
["3","胡嘉",{"$f":"VLOOKUP(B103,[1]!$B$1:$L$279,11,FALSE)","v":"南京理工大学"}]
["4","甘衡",{"$f":"VLOOKUP(B104,[1]!$B$1:$L$279,11,FALSE)","v":"江西理工大学"}]
["5","吴家昆",{"$f":"VLOOKUP(B105,[1]!$B$1:$L$279,11,FALSE)","v":"上海理工大学"}]
["6","汪杰",{"$f":"VLOOKUP(B106,[1]!$B$1:$L$279,11,FALSE)","v":"江西师范大学"},"9：30-10：00"]
["7","谌莉",{"$f":"VLOOKUP(B107,[1]!$B$1:$L$279,11,FALSE)","v":"南昌大学"}]
["8","黄云",{"$f":"VLOOKUP(B108,[1]!$B$1:$L$279,11,FALSE)","v":"江西师范大学"}]
["9","付舒婷",{"$f":"VLOOKUP(B109,[1]!$B$1:$L$279,11,FALSE)","v":"江西财经大学现代经济管理学院"}]
["10","钟玉婷",{"$f":"VLOOKUP(B110,[1]!$B$1:$L$279,11,FALSE)","v":"东华理工大学"}]
["11","陶文毅",{"$f":"VLOOKUP(B111,[1]!$B$1:$L$279,11,FALSE)","v":"南昌工学院"},"10：00-10：30"]
["12","黄茹婧",{"$f":"VLOOKUP(B112,[1]!$B$1:$L$279,11,FALSE)","v":"江西理工大学"}]
["13","童飘萍",{"$f":"VLOOKUP(B113,[1]!$B$1:$L$279,11,FALSE)","v":"淮北师范大学"}]
["14","卢仔薇",{"$f":"VLOOKUP(B114,[1]!$B$1:$L$279,11,FALSE)","v":"华东交通大学理工学院"}]
["15","李佳星",{"$f":"VLOOKUP(B115,[1]!$B$1:$L$279,11,FALSE)","v":"华东交通大学"}]
["16","孙甜",{"$f":"VLOOKUP(B116,[1]!$B$1:$L$279,11,FALSE)","v":"华南师范大学"},"10：30-11：00"]
["17","卢斌",{"$f":"VLOOKUP(B117,[1]!$B$1:$L$279,11,FALSE)","v":"景德镇陶瓷大学"}]
["18","朱丽芳",{"$f":"VLOOKUP(B118,[1]!$B$1:$L$279,11,FALSE)","v":"江西农业大学南昌商学院"}]
["19","李小敏",{"$f":"VLOOKUP(B119,[1]!$B$1:$L$279,11,FALSE)","v":"兰州大学"}]
["20","徐思成",{"$f":"VLOOKUP(B120,[1]!$B$1:$L$279,11,FALSE)","v":"南昌大学科学技术学院"}]
["21","张晓",{"$f":"VLOOKUP(B121,[1]!$B$1:$L$279,11,FALSE)","v":"九江学院"},"11：00-11：30"]
["22","周友瀚",{"$f":"VLOOKUP(B122,[1]!$B$1:$L$279,11,FALSE)","v":"南阳师范学院"}]
["23","阳寒",{"$f":"VLOOKUP(B123,[1]!$B$1:$L$279,11,FALSE)","v":"宜春学院"}]
["24","万子良",{"$f":"VLOOKUP(B124,[1]!$B$1:$L$279,11,FALSE)","v":"江西师范大学"}]
["25","彭博",{"$f":"VLOOKUP(B125,[1]!$B$1:$L$279,11,FALSE)","v":"信阳师范学院"}]
["26","张可欣",{"$f":"VLOOKUP(B126,[1]!$B$1:$L$279,11,FALSE)","v":"台州学院"},"11：30-12：00"]
["27","袁雨情",{"$f":"VLOOKUP(B127,[1]!$B$1:$L$279,11,FALSE)","v":"广东东软学院"}]
["28","陈伟平",{"$f":"VLOOKUP(B128,[1]!$B$1:$L$279,11,FALSE)","v":"江西农业大学南昌商学院"}]
["29","李娜",{"$f":"VLOOKUP(B129,[1]!$B$1:$L$279,11,FALSE)","v":"江西理工大学"}]
["30","汪会学",{"$f":"VLOOKUP(B130,[1]!$B$1:$L$279,11,FALSE)","v":"华东交通大学理工学院"}]
["31","钟群",{"$f":"VLOOKUP(B131,[1]!$B$1:$L$279,11,FALSE)","v":"井冈山大学"},"13：00-13：30"]
["32","钟宁",{"$f":"VLOOKUP(B132,[1]!$B$1:$L$279,11,FALSE)","v":"华东交通大学理工学院"}]
["33","黄凯伦",{"$f":"VLOOKUP(B133,[1]!$B$1:$L$279,11,FALSE)","v":"景德镇陶瓷大学"}]
["34","杨沁",{"$f":"VLOOKUP(B134,[1]!$B$1:$L$279,11,FALSE)","v":"江西旅游商贸职业学院"}]
["35","董文昕",{"$f":"VLOOKUP(B135,[1]!$B$1:$L$279,11,FALSE)","v":"西南财经大学"}]
["36","张帅琴",{"$f":"VLOOKUP(B136,[1]!$B$1:$L$279,11,FALSE)","v":"江西现代职业技术学院"},"13：30-14：00"]
["37","黄梦琴",{"$f":"VLOOKUP(B137,[1]!$B$1:$L$279,11,FALSE)","v":"华东交通大学理工学院"}]
["38","黄紫芸",{"$f":"VLOOKUP(B138,[1]!$B$1:$L$279,11,FALSE)","v":"江西财经职业学院"}]
["39","谭振雄",{"$f":"VLOOKUP(B139,[1]!$B$1:$L$279,11,FALSE)","v":"景德镇陶瓷大学"}]
["40","张汉平",{"$f":"VLOOKUP(B140,[1]!$B$1:$L$279,11,FALSE)","v":"黑龙江科技大学"}]
["41","陈京洲",{"$f":"VLOOKUP(B141,[1]!$B$1:$L$279,11,FALSE)","v":"四川交通职业技术学院"},"14：00-14：30"]
["42","刘艳琴",{"$f":"VLOOKUP(B142,[1]!$B$1:$L$279,11,FALSE)","v":"温州大学"}]
["43","邹艳",{"$f":"VLOOKUP(B143,[1]!$B$1:$L$279,11,FALSE)","v":"江西师范大学"}]
["44","左子琛",{"$f":"VLOOKUP(B144,[1]!$B$1:$L$279,11,FALSE)","v":"江西财经大学现代经济管理学院"}]
["45","万紫瑶",{"$f":"VLOOKUP(B145,[1]!$B$1:$L$279,11,FALSE)","v":"南昌大学共青学院"}]
["46","刘亚楠",{"$f":"VLOOKUP(B146,[1]!$B$1:$L$279,11,FALSE)","v":"河南科技大学"}]
["上饶银行2021校园招聘面试第四组 2020年11月20日（周五）"]
["序号","姓名","毕业学校","预计面试时间段"]
["1","汤枭",{"$f":"VLOOKUP(B149,[1]!$B$1:$L$279,11,FALSE)","v":"江西农业大学"},"9：00-9：30"]
["2","朱嘉贝",{"$f":"VLOOKUP(B150,[1]!$B$1:$L$279,11,FALSE)","v":"沈阳师范大学"}]
["3","李金",{"$f":"VLOOKUP(B151,[1]!$B$1:$L$279,11,FALSE)","v":"哈尔滨工业大学"}]
["4","贺鹏飞",{"$f":"VLOOKUP(B152,[1]!$B$1:$L$279,11,FALSE)","v":"南昌大学科技学院"}]
["5","陈路",{"$f":"VLOOKUP(B153,[1]!$B$1:$L$279,11,FALSE)","v":"中南林业大学"}]
["6","欧阳洋",{"$f":"VLOOKUP(B154,[1]!$B$1:$L$279,11,FALSE)","v":"江西农业大学"},"9：30-10：00"]
["7","梁栋",{"$f":"VLOOKUP(B155,[1]!$B$1:$L$279,11,FALSE)","v":"阳光学院"}]
["8","彭欣宇",{"$f":"VLOOKUP(B156,[1]!$B$1:$L$279,11,FALSE)","v":"南昌理工学院"}]
["9","钟玉茜",{"$f":"VLOOKUP(B157,[1]!$B$1:$L$279,11,FALSE)","v":"萍乡学院"}]
["10","施隽",{"$f":"VLOOKUP(B158,[1]!$B$1:$L$279,11,FALSE)","v":"湖南工商大学"}]
["11","张宇希",{"$f":"VLOOKUP(B159,[1]!$B$1:$L$279,11,FALSE)","v":"萍乡学院"},"10：00-10：30"]
["12","黄超",{"$f":"VLOOKUP(B160,[1]!$B$1:$L$279,11,FALSE)","v":"江西财经大学"}]
["13","唐丽佳",{"$f":"VLOOKUP(B161,[1]!$B$1:$L$279,11,FALSE)","v":"江西师范大学高职学院"}]
["14","黄钰茜",{"$f":"VLOOKUP(B162,[1]!$B$1:$L$279,11,FALSE)","v":"广西师范大学"}]
["15","苏洁",{"$f":"VLOOKUP(B163,[1]!$B$1:$L$279,11,FALSE)","v":"萍乡学院"}]
["16","温婧茹",{"$f":"VLOOKUP(B164,[1]!$B$1:$L$279,11,FALSE)","v":"宜春学院"},"10：30-11：00"]
["17","段根瑞",{"$f":"VLOOKUP(B165,[1]!$B$1:$L$279,11,FALSE)","v":"广东工业大学"}]
["18","刘嘉慧",{"$f":"VLOOKUP(B166,[1]!$B$1:$L$279,11,FALSE)","v":"河北工业大学"}]
["19","李雅婷",{"$f":"VLOOKUP(B167,[1]!$B$1:$L$279,11,FALSE)","v":"江西农业大学"}]
["20","张佳丽",{"$f":"VLOOKUP(B168,[1]!$B$1:$L$279,11,FALSE)","v":"萍乡学院"}]
["21","王雨",{"$f":"VLOOKUP(B169,[1]!$B$1:$L$279,11,FALSE)","v":"郑州理工专修学院"},"11：00-11：30"]
["22","王汝",{"$f":"VLOOKUP(B170,[1]!$B$1:$L$279,11,FALSE)","v":"东华理工大学"}]
["23","李琴",{"$f":"VLOOKUP(B171,[1]!$B$1:$L$279,11,FALSE)","v":"江西外语外贸职业学院"}]
["24","彭倩",{"$f":"VLOOKUP(B172,[1]!$B$1:$L$279,11,FALSE)","v":"萍乡学院"}]
["25","谢雅洁",{"$f":"VLOOKUP(B173,[1]!$B$1:$L$279,11,FALSE)","v":"南昌工学院"}]
["26","巢罗强",{"$f":"VLOOKUP(B174,[1]!$B$1:$L$279,11,FALSE)","v":"江西师范大学"},"11：30-12：00"]
["27","胡玮",{"$f":"VLOOKUP(B175,[1]!$B$1:$L$279,11,FALSE)","v":"西北大学现代学院"}]
["28","夏雨",{"$f":"VLOOKUP(B176,[1]!$B$1:$L$279,11,FALSE)","v":"江西财经大学现代经济管理学院"}]
["29","吴庚炜",{"$f":"VLOOKUP(B177,[1]!$B$1:$L$279,11,FALSE)","v":"云南师范大学"}]
["30","黄可超",{"$f":"VLOOKUP(B178,[1]!$B$1:$L$279,11,FALSE)","v":"南昌大学"}]
["31","潘欣悦",{"$f":"VLOOKUP(B179,[1]!$B$1:$L$279,11,FALSE)","v":"武汉大学"},"13：00-13：30"]
["32","黄书晴",{"$f":"VLOOKUP(B180,[1]!$B$1:$L$279,11,FALSE)","v":"江西农业大学南昌商学院"}]
["33","曾沁洋",{"$f":"VLOOKUP(B181,[1]!$B$1:$L$279,11,FALSE)","v":"密歇根大学"}]
["34","蔡燕玲",{"$f":"VLOOKUP(B182,[1]!$B$1:$L$279,11,FALSE)","v":"南昌大学科学技术学院"}]
["35","周佳琪",{"$f":"VLOOKUP(B183,[1]!$B$1:$L$279,11,FALSE)","v":"南昌大学"}]
["36","徐雅璐",{"$f":"VLOOKUP(B184,[1]!$B$1:$L$279,11,FALSE)","v":"南昌理工学院"},"13：30-14：00"]
["37","杨玲",{"$f":"VLOOKUP(B185,[1]!$B$1:$L$279,11,FALSE)","v":"上海海洋大学"}]
["38","林淑珍",{"$f":"VLOOKUP(B186,[1]!$B$1:$L$279,11,FALSE)","v":"西南民族大学"}]
["39","黄文",{"$f":"VLOOKUP(B187,[1]!$B$1:$L$279,11,FALSE)","v":"江西师范大学"}]
["40","占文文",{"$f":"VLOOKUP(B188,[1]!$B$1:$L$279,11,FALSE)","v":"江西财经大学"}]
["41","龚晓宇",{"$f":"VLOOKUP(B189,[1]!$B$1:$L$279,11,FALSE)","v":"江西财经大学"},"14：00-14：30"]
["42","许诗霞",{"$f":"VLOOKUP(B190,[1]!$B$1:$L$279,11,FALSE)","v":"江西财经大学"}]
["43","汪怡歆",{"$f":"VLOOKUP(B191,[1]!$B$1:$L$279,11,FALSE)","v":"江西师范大学"}]
["44","汪晨阳",{"$f":"VLOOKUP(B192,[1]!$B$1:$L$279,11,FALSE)","v":"北京林业大学"}]
["45","徐志钢",{"$f":"VLOOKUP(B193,[1]!$B$1:$L$279,11,FALSE)","v":"云南大学滇池学院"}]
["46","江国栋",{"$f":"VLOOKUP(B194,[1]!$B$1:$L$279,11,FALSE)","v":"华东交通大学理工学院"},"14:30-15:00"]
["47","戴正洋",{"$f":"VLOOKUP(B195,[1]!$B$1:$L$279,11,FALSE)","v":"上饶师范学院"}]
["48","占珍珍",{"$f":"VLOOKUP(B196,[1]!$B$1:$L$279,11,FALSE)","v":"上饶师范学院"}]
["49","陈建灯",{"$f":"VLOOKUP(B197,[1]!$B$1:$L$279,11,FALSE)","v":"江西理工大学"}]
["50","张路",{"$f":"VLOOKUP(B198,[1]!$B$1:$L$279,11,FALSE)","v":"东华理工大学"}]
["51","朱慧颖",{"$f":"VLOOKUP(B199,[1]!$B$1:$L$279,11,FALSE)","v":"山西师范大学"}]
["上饶银行2021校园招聘面试第五组 2020年11月20日（周五）"]
["序号","姓名","毕业学校","预计面试时间段"]
["1","文锦程",{"$f":"VLOOKUP(B202,[1]!$B$1:$L$279,11,FALSE)","v":"明尼苏达大学双城分校"},"9：00-9：30"]
["2","刘久坚",{"$f":"VLOOKUP(B203,[1]!$B$1:$L$279,11,FALSE)","v":"江西财经大学"}]
["3","杨雪",{"$f":"VLOOKUP(B204,[1]!$B$1:$L$279,11,FALSE)","v":"江西财经大学"}]
["4","刘震",{"$f":"VLOOKUP(B205,[1]!$B$1:$L$279,11,FALSE)","v":"南昌大学"}]
["5","周家俊",{"$f":"VLOOKUP(B206,[1]!$B$1:$L$279,11,FALSE)","v":"江西师范大学"}]
["6","胡聪",{"$f":"VLOOKUP(B207,[1]!$B$1:$L$279,11,FALSE)","v":"江西财经大学"},"9：30-10：00"]
["7","谢惠卿",{"$f":"VLOOKUP(B208,[1]!$B$1:$L$279,11,FALSE)","v":"南昌大学"}]
["8","王玥",{"$f":"VLOOKUP(B209,[1]!$B$1:$L$279,11,FALSE)","v":"江西财经大学"}]
["9","彭绍林",{"$f":"VLOOKUP(B210,[1]!$B$1:$L$279,11,FALSE)","v":"南昌大学"}]
["10","郑齐凡",{"$f":"VLOOKUP(B211,[1]!$B$1:$L$279,11,FALSE)","v":"江西财经大学现代经济管理学院"}]
["11","邱文婷",{"$f":"VLOOKUP(B212,[1]!$B$1:$L$279,11,FALSE)","v":"云南大学旅游文化学院"},"10：00-10：30"]
["12","肖志明",{"$f":"VLOOKUP(B213,[1]!$B$1:$L$279,11,FALSE)","v":"景德镇陶瓷大学"}]
["13","王婧婷",{"$f":"VLOOKUP(B214,[1]!$B$1:$L$279,11,FALSE)","v":"景德镇陶瓷大学"}]
["14","龚丹",{"$f":"VLOOKUP(B215,[1]!$B$1:$L$279,11,FALSE)","v":"江西交通职业技术学院"}]
["15","匡梦思",{"$f":"VLOOKUP(B216,[1]!$B$1:$L$279,11,FALSE)","v":"江西服装学院"}]
["16","肖越",{"$f":"VLOOKUP(B217,[1]!$B$1:$L$279,11,FALSE)","v":"西北民族大学"},"10：30-11：00"]
["17","高雪珺",{"$f":"VLOOKUP(B218,[1]!$B$1:$L$279,11,FALSE)","v":"河北农业大学"}]
["18","陈婷婷",{"$f":"VLOOKUP(B219,[1]!$B$1:$L$279,11,FALSE)","v":"江西财经大学"}]
["19","陈香兰",{"$f":"VLOOKUP(B220,[1]!$B$1:$L$279,11,FALSE)","v":"景德镇学院"}]
["20","梅海招",{"$f":"VLOOKUP(B221,[1]!$B$1:$L$279,11,FALSE)","v":"上饶师范学院"}]
["21","肖龙吉",{"$f":"VLOOKUP(B222,[1]!$B$1:$L$279,11,FALSE)","v":"江西师范大学"},"11：00-11：30"]
["22","古婷",{"$f":"VLOOKUP(B223,[1]!$B$1:$L$279,11,FALSE)","v":"江西农业大学"}]
["23","兰俊林",{"$f":"VLOOKUP(B224,[1]!$B$1:$L$279,11,FALSE)","v":"南昌理工学院"}]
["24","李文",{"$f":"VLOOKUP(B225,[1]!$B$1:$L$279,11,FALSE)","v":"江西财经大学"}]
["25","宋石林",{"$f":"VLOOKUP(B226,[1]!$B$1:$L$279,11,FALSE)","v":"江西师范大学"}]
["26","赖佳昕",{"$f":"VLOOKUP(B227,[1]!$B$1:$L$279,11,FALSE)","v":"华南师范大学"},"11：30-12：00"]
["27","曾文坤",{"$f":"VLOOKUP(B228,[1]!$B$1:$L$279,11,FALSE)","v":"江西师范大学"}]
["28","严利",{"$f":"VLOOKUP(B229,[1]!$B$1:$L$279,11,FALSE)","v":"江西财经大学"}]
["29","缪熠",{"$f":"VLOOKUP(B230,[1]!$B$1:$L$279,11,FALSE)","v":"香港浸会大学"}]
["30","李坤",{"$f":"VLOOKUP(B231,[1]!$B$1:$L$279,11,FALSE)","v":"华东交通大学"}]
["31","谢文清",{"$f":"VLOOKUP(B232,[1]!$B$1:$L$279,11,FALSE)","v":"江西财经大学"},"13：00-13：30"]
["32","张伟诚",{"$f":"VLOOKUP(B233,[1]!$B$1:$L$279,11,FALSE)","v":"江西财经大学"}]
["33","曾涛",{"$f":"VLOOKUP(B234,[1]!$B$1:$L$279,11,FALSE)","v":"江西财经大学"}]
["34","林锎",{"$f":"VLOOKUP(B235,[1]!$B$1:$L$279,11,FALSE)","v":"江西财经大学"}]
["35","张阿慧",{"$f":"VLOOKUP(B236,[1]!$B$1:$L$279,11,FALSE)","v":"卡迪夫大学"}]
["36","余敏",{"$f":"VLOOKUP(B237,[1]!$B$1:$L$279,11,FALSE)","v":"南昌大学"},"13：30-14：00"]
["37","袁培林",{"$f":"VLOOKUP(B238,[1]!$B$1:$L$279,11,FALSE)","v":"江西师范大学"}]
["38","黄恺",{"$f":"VLOOKUP(B239,[1]!$B$1:$L$279,11,FALSE)","v":"江西财经大学"}]
["39","张莉",{"$f":"VLOOKUP(B240,[1]!$B$1:$L$279,11,FALSE)","v":"华东交通大学"}]
["40","王菲",{"$f":"VLOOKUP(B241,[1]!$B$1:$L$279,11,FALSE)","v":"南昌理工学院"}]
["41","刘通",{"$f":"VLOOKUP(B242,[1]!$B$1:$L$279,11,FALSE)","v":"北京交通大学"},"14：00-14：30"]
["42","谢艳丹",{"$f":"VLOOKUP(B243,[1]!$B$1:$L$279,11,FALSE)","v":"江西师范大学"}]
["43","王良康",{"$f":"VLOOKUP(B244,[1]!$B$1:$L$279,11,FALSE)","v":"江西师范大学"}]
["44","吴鸣涛",{"$f":"VLOOKUP(B245,[1]!$B$1:$L$279,11,FALSE)","v":"江西师范大学"}]
["上饶银行2021校园招聘面试第六组 2020年11月20日（周五）"]
["序号","姓名","毕业学校","预计面试时间段"]
["1","汪志伟",{"$f":"VLOOKUP(B248,[1]!$B$1:$L$279,11,FALSE)","v":"江西财经大学"},"9：00-9：30"]
["2","吴奇",{"$f":"VLOOKUP(B249,[1]!$B$1:$L$279,11,FALSE)","v":"上海大学"}]
["3","江小意",{"$f":"VLOOKUP(B250,[1]!$B$1:$L$279,11,FALSE)","v":"南昌航空大学"}]
["4","莫康乐",{"$f":"VLOOKUP(B251,[1]!$B$1:$L$279,11,FALSE)","v":"江西应用科技学院"}]
["5","黄东奇",{"$f":"VLOOKUP(B252,[1]!$B$1:$L$279,11,FALSE)","v":"复旦大学"}]
["6","高伟华",{"$f":"VLOOKUP(B253,[1]!$B$1:$L$279,11,FALSE)","v":"四川传媒学院"},"9：30-10：00"]
["7","万采妮",{"$f":"VLOOKUP(B254,[1]!$B$1:$L$279,11,FALSE)","v":"江西师范大学"}]
["8","胡群英",{"$f":"VLOOKUP(B255,[1]!$B$1:$L$279,11,FALSE)","v":"南昌理工学院"}]
["9","彭霄宇",{"$f":"VLOOKUP(B256,[1]!$B$1:$L$279,11,FALSE)","v":"宁波大学"}]
["10","雷营",{"$f":"VLOOKUP(B257,[1]!$B$1:$L$279,11,FALSE)","v":"江西师范大学"}]
["11","舒子玲",{"$f":"VLOOKUP(B258,[1]!$B$1:$L$279,11,FALSE)","v":"暨南大学"},"10：00-10：30"]
["12","张志军",{"$f":"VLOOKUP(B259,[1]!$B$1:$L$279,11,FALSE)","v":"上海理工大学"}]
["13","周粲典",{"$f":"VLOOKUP(B260,[1]!$B$1:$L$279,11,FALSE)","v":"浙江大学"}]
["14","曹长波",{"$f":"VLOOKUP(B261,[1]!$B$1:$L$279,11,FALSE)","v":"中国民航大学"}]
["15","方莉雅",{"$f":"VLOOKUP(B262,[1]!$B$1:$L$279,11,FALSE)","v":"新余学院"}]
["16","吴小俊",{"$f":"VLOOKUP(B263,[1]!$B$1:$L$279,11,FALSE)","v":"江西农业大学"},"10：30-11：00"]
["17","万里佳",{"$f":"VLOOKUP(B264,[1]!$B$1:$L$279,11,FALSE)","v":"重庆第二师范学院"}]
["18","陈勇",{"$f":"VLOOKUP(B265,[1]!$B$1:$L$279,11,FALSE)","v":"西北大学现代学院"}]
["19","王坚",{"$f":"VLOOKUP(B266,[1]!$B$1:$L$279,11,FALSE)","v":"华东交通大学理工学院"}]
["20","王玉倩",{"$f":"VLOOKUP(B267,[1]!$B$1:$L$279,11,FALSE)","v":"九江学院"}]
["21","叶跃",{"$f":"VLOOKUP(B268,[1]!$B$1:$L$279,11,FALSE)","v":"江西外语外贸职业学院"},"11：00-11：30"]
["22","郑兴涛",{"$f":"VLOOKUP(B269,[1]!$B$1:$L$279,11,FALSE)","v":"香港理工大学"}]
["23","蒋章政",{"$f":"VLOOKUP(B270,[1]!$B$1:$L$279,11,FALSE)","v":"江西师范大学"}]
["24","邱凯盈",{"$f":"VLOOKUP(B271,[1]!$B$1:$L$279,11,FALSE)","v":"江西财经大学"}]
["25","余越",{"$f":"VLOOKUP(B272,[1]!$B$1:$L$279,11,FALSE)","v":"江西财经大学"}]
["26","张若楠",{"$f":"VLOOKUP(B273,[1]!$B$1:$L$279,11,FALSE)","v":"江西财经大学"},"11：30-12：00"]
["27","吴佳",{"$f":"VLOOKUP(B274,[1]!$B$1:$L$279,11,FALSE)","v":"宜春学院"}]
["28","刘悦",{"$f":"VLOOKUP(B275,[1]!$B$1:$L$279,11,FALSE)","v":"广州中医药大学"}]
["29","柯璐瑶",{"$f":"VLOOKUP(B276,[1]!$B$1:$L$279,11,FALSE)","v":"江西科技师范大学"}]
["30","徐锐",{"$f":"VLOOKUP(B277,[1]!$B$1:$L$279,11,FALSE)","v":"上饶师范学院"}]
["31","毕鹏飞",{"$f":"VLOOKUP(B278,[1]!$B$1:$L$279,11,FALSE)","v":"上海电力学院"},"13：00-13：30"]
["32","谭莹",{"$f":"VLOOKUP(B279,[1]!$B$1:$L$279,11,FALSE)","v":"江西财经大学"}]
["33","敖鑫",{"$f":"VLOOKUP(B280,[1]!$B$1:$L$279,11,FALSE)","v":"华南师范大学"}]
["34","朱振杰",{"$f":"VLOOKUP(B281,[1]!$B$1:$L$279,11,FALSE)","v":"平顶山学院"}]
["35","方小红",{"$f":"VLOOKUP(B282,[1]!$B$1:$L$279,11,FALSE)","v":"南昌大学科学技术学院"}]
["36","严依霏",{"$f":"VLOOKUP(B283,[1]!$B$1:$L$279,11,FALSE)","v":"江西师范大学"},"13：30-14：00"]
["37","王晴雯",{"$f":"VLOOKUP(B284,[1]!$B$1:$L$279,11,FALSE)","v":"南昌大学共青学院"}]
["38","郭徐",{"$f":"VLOOKUP(B285,[1]!$B$1:$L$279,11,FALSE)","v":"江西财经大学"}]
["39","王文青",{"$f":"VLOOKUP(B286,[1]!$B$1:$L$279,11,FALSE)","v":"华东师范大学"}]
["40","陈慧",{"$f":"VLOOKUP(B287,[1]!$B$1:$L$279,11,FALSE)","v":"江西财经大学"}]
["41","袁相豪",{"$f":"VLOOKUP(B288,[1]!$B$1:$L$279,11,FALSE)","v":"中央财经大学"},"14：00-14：30"]
["42","张旭尧",{"$f":"VLOOKUP(B289,[1]!$B$1:$L$279,11,FALSE)","v":"湖南大学"}]
["43","陈志伟",{"$f":"VLOOKUP(B290,[1]!$B$1:$L$279,11,FALSE)","v":"对外经济贸易大学"}]