{"text_format":"3","workbook":"xlsx","n_sheets":2,"sheets":["上林国民村镇银行应聘报名表","汇总表"],"not_rendered":{"defined_names":1},"read":"whole","date_system":"1900"}

{"sheet":"上林国民村镇银行应聘报名表","index":0,"n_rows":55,"n_cols":8,"rows_kept":55,"merged":[[0,0,0,7],[1,0,1,7],[2,1,2,3],[2,5,2,7],[3,0,3,7],[4,1,4,2],[4,7,7,7],[5,1,5,2],[6,1,6,2],[7,1,7,2],[8,6,8,7],[9,1,9,2],[9,6,9,7],[10,1,10,4],[10,6,10,7],[11,0,11,7],[12,0,12,7],[13,0,13,7],[14,0,14,7],[15,0,15,7],[16,2,16,4],[17,2,17,4],[18,2,18,4],[19,2,19,4],[20,2,20,4],[21,2,21,4],[22,0,22,7],[23,2,23,3],[23,4,23,5],[24,2,24,3],[24,4,24,5],[25,2,25,3],[25,4,25,5],[26,2,26,3],[26,4,26,5],[27,2,27,3],[27,4,27,5],[28,2,28,3],[28,4,28,5],[29,2,29,3],[29,4,29,5],[30,0,30,7],[31,0,31,7],[32,0,32,7],[33,0,33,7],[34,0,34,7],[35,0,35,7],[36,0,36,7],[37,0,37,3],[37,4,37,7],[38,0,38,1],[38,2,38,3],[38,4,38,7],[39,0,39,1],[39,2,39,3],[39,4,39,7],[40,0,40,1],[40,2,40,3],[40,4,40,7],[41,0,41,1],[41,2,41,3],[41,4,41,7],[42,0,42,7],[43,1,43,2],[43,4,43,6],[44,1,44,2],[44,4,44,6],[45,1,45,2],[45,4,45,6],[46,1,46,2],[46,4,46,6],[47,1,47,2],[47,4,47,6],[48,1,48,2],[48,4,48,6],[49,0,49,7],[50,0,50,7],[51,0,52,7],[53,0,53,7],[54,0,54,7]]}
["上林国民村镇银行应聘报名表"]
["应聘信息"]
["应聘岗位",{"$nulls":3},"工作地点"]
["个人基本信息"]
["姓名",null,null,"曾用名",null,"性别",null,"一寸证件照"]
["户籍",null,null,"民族",null,"出生日期"]
["身高(cm)",null,null,"体检情况",null,"婚姻状况"]
["政治面貌",null,null,"最高学历",null,"职称"]
["外语水平","CET4",null,"CET6",null,"其他"]
["身份证号码",null,null,"联系电话",null,"电子邮箱"]
["现家庭    居住地",{"$nulls":4},"邮政编码"]
["与现单位签订何种劳动合同："]
["□固定期限    □无固定期限    □完成某项工作为期限    终止日期 ________"]
["待遇      元/年     希望待遇       元/年      是否服从调剂："]
["教育经历"]
["受教育详细情况(从最高学历填起)"]
["开始时间","结束时间","学校名称",null,null,"所学专业 名称","学历    （学位）","教育类型"]
[]
[]
[null,null," "]
[]
[]
["工作经历"]
["开始时间","结束时间","单位名称",null,"职务",null,"用工性质","证明人及\n联系方式"]
[]
[]
[]
[]
[]
[]
["业绩成果"]
[]
[]
[]
[]
[]
["奖惩记录"]
["有无受处罚、处分记录"]
["奖惩时间",null,"奖惩单位",null,"奖惩内容"]
[]
[]
[null,null," "]
["家庭成员及重要社会关系"]
["称谓","姓名",null,"年龄","单位名称",null,null,"职务"]
["配偶"]
["子女"]
["父亲"]
["母亲"]
["其他"]
["请如实、完整地填写“家庭成员及重要社会关系”一栏，以保证信息的完整性和真实性。\n亲属中如有在上林国民村镇银行工作的，必须在上表中逐一列明。"]
["其他说明"]
["爱好、特长："]
[]
["声明：本人承诺以上信息完全属实且未隐瞒上林国民村镇银行应知悉的重要信息，如有不实信息或隐瞒上林国民村镇银行应知悉的重要信息，本人同意上林国民村镇银行取消本人应聘资格，并承担由此引起的责任和后果。"]
["                               填表人签字：            日期：   年  月  日"]

{"sheet":"汇总表","index":1,"n_rows":8,"n_cols":31,"rows_kept":8,"hidden":true,"merged":[[0,0,0,1],[0,2,0,13],[0,15,0,20],[0,22,0,25],[0,26,0,30]]}
["应聘信息",null,"个人基本信息",{"$nulls":12},"教育情况",{"$nulls":6},"工作经历",{"$nulls":3},"家庭成员及重要社会关系"]
["应聘岗位","工作地点","姓名","性别","出生年月","身高（cm）","民族","婚姻状况","户籍","政治面貌","职称","现家庭住址","身份证号码","联系电话","电子邮箱","最高学历（学位）","教育类型","起止时间","毕业院校及专业","CET4","CET6","其他","起止时间","单位及职务","用工性质","证明人及联系方式","称谓","姓名","年龄","单位名称","职务"]
[{"$f":"上林国民村镇银行应聘报名表!B3","v":0},{"$f":"上林国民村镇银行应聘报名表!F3","v":0},{"$f":"上林国民村镇银行应聘报名表!B5","v":0},{"$f":"上林国民村镇银行应聘报名表!G5","v":0},{"$f":"上林国民村镇银行应聘报名表!G6","v":0},{"$f":"上林国民村镇银行应聘报名表!B7","v":0},{"$f":"上林国民村镇银行应聘报名表!E6","v":0},{"$f":"上林国民村镇银行应聘报名表!G7","v":0},{"$f":"上林国民村镇银行应聘报名表!B6","v":0},{"$f":"上林国民村镇银行应聘报名表!B8","v":0},{"$f":"上林国民村镇银行应聘报名表!G8","v":0},{"$f":"上林国民村镇银行应聘报名表!B11","v":0},{"$f":"上林国民村镇银行应聘报名表!B10","v":0},{"$f":"上林国民村镇银行应聘报名表!E10","v":0},{"$f":"上林国民村镇银行应聘报名表!G10","v":0},{"$f":"上林国民村镇银行应聘报名表!G18","v":0},{"$f":"上林国民村镇银行应聘报名表!H18","v":0},{"$f":"上林国民村镇银行应聘报名表!A18&\"-\"&上林国民村镇银行应聘报名表!B18","v":"-"},{"$f":"上林国民村镇银行应聘报名表!C18&上林国民村镇银行应聘报名表!F18","v":""},{"$f":"上林国民村镇银行应聘报名表!C9","v":0},{"$f":"上林国民村镇银行应聘报名表!E9","v":0},{"$f":"上林国民村镇银行应聘报名表!G9","v":0},{"$f":"上林国民村镇银行应聘报名表!A25&\"-\"&上林国民村镇银行应聘报名表!B25","v":"-"},{"$f":"上林国民村镇银行应聘报名表!C25&上林国民村镇银行应聘报名表!E25","v":""},{"$f":"上林国民村镇银行应聘报名表!G25","v":0},{"$f":"上林国民村镇银行应聘报名表!H25","v":0},"配偶",{"$f":"上林国民村镇银行应聘报名表!B45","v":0},{"$f":"上林国民村镇银行应聘报名表!D45","v":0},{"$f":"上林国民村镇银行应聘报名表!E45","v":0},{"$f":"上林国民村镇银行应聘报名表!H45","v":0}]
[{"$nulls":18},{"$f":"上林国民村镇银行应聘报名表!C20","v":" "},{"$nulls":3},{"$f":"上林国民村镇银行应聘报名表!A26&\"-\"&上林国民村镇银行应聘报名表!B26","v":"-"},{"$f":"上林国民村镇银行应聘报名表!C26&上林国民村镇银行应聘报名表!E26","v":""},{"$f":"上林国民村镇银行应聘报名表!G26","v":0},{"$f":"上林国民村镇银行应聘报名表!H26","v":0},"子女",{"$f":"上林国民村镇银行应聘报名表!B46","v":0},{"$f":"上林国民村镇银行应聘报名表!D46","v":0},{"$f":"上林国民村镇银行应聘报名表!E46","v":0},{"$f":"上林国民村镇银行应聘报名表!H46","v":0}]
[{"$nulls":22},{"$f":"上林国民村镇银行应聘报名表!A27&\"-\"&上林国民村镇银行应聘报名表!B27","v":"-"},{"$f":"上林国民村镇银行应聘报名表!C27&上林国民村镇银行应聘报名表!E27","v":""},{"$f":"上林国民村镇银行应聘报名表!G27","v":0},{"$f":"上林国民村镇银行应聘报名表!H27","v":0},"父亲",{"$f":"上林国民村镇银行应聘报名表!B47","v":0},{"$f":"上林国民村镇银行应聘报名表!D47","v":0},{"$f":"上林国民村镇银行应聘报名表!E47","v":0},{"$f":"上林国民村镇银行应聘报名表!H47","v":0}]
[{"$nulls":22},{"$f":"上林国民村镇银行应聘报名表!A28&\"-\"&上林国民村镇银行应聘报名表!B28","v":"-"},{"$f":"上林国民村镇银行应聘报名表!C28&上林国民村镇银行应聘报名表!E28","v":""},{"$f":"上林国民村镇银行应聘报名表!G28","v":0},{"$f":"上林国民村镇银行应聘报名表!H28","v":0},"母亲",{"$f":"上林国民村镇银行应聘报名表!B48","v":0},{"$f":"上林国民村镇银行应聘报名表!D48","v":0},{"$f":"上林国民村镇银行应聘报名表!E48","v":0},{"$f":"上林国民村镇银行应聘报名表!H48","v":0}]
[{"$nulls":22},{"$f":"上林国民村镇银行应聘报名表!A29&\"-\"&上林国民村镇银行应聘报名表!B29","v":"-"},{"$f":"上林国民村镇银行应聘报名表!C29&上林国民村镇银行应聘报名表!E29","v":""},{"$f":"上林国民村镇银行应聘报名表!G29","v":0},{"$f":"上林国民村镇银行应聘报名表!H29","v":0},"其他",{"$f":"上林国民村镇银行应聘报名表!B49","v":0},{"$f":"上林国民村镇银行应聘报名表!D49","v":0},{"$f":"上林国民村镇银行应聘报名表!E49","v":0},{"$f":"上林国民村镇银行应聘报名表!H49","v":0}]
[{"$nulls":22},{"$f":"上林国民村镇银行应聘报名表!A30&\"-\"&上林国民村镇银行应聘报名表!B30","v":"-"},{"$f":"上林国民村镇银行应聘报名表!C30&上林国民村镇银行应聘报名表!E30","v":""},{"$f":"上林国民村镇银行应聘报名表!G30","v":0},{"$f":"上林国民村镇银行应聘报名表!H30","v":0}]